BEGIN:VCALENDAR
PRODID:http://www.kufer.de/kuferweb / DE
VERSION:2.0
METHOD:PUBLISH
CALSCALE:GREGORIAN
X-WR-TIMEZONE:Europe/Berlin
BEGIN:VTIMEZONE
TZID:Europe/Berlin
X-LIC-LOCATION:Europe/Berlin
BEGIN:DAYLIGHT
TZOFFSETFROM:+0100
TZOFFSETTO:+0200
TZNAME:CEST
DTSTART;TZID=Europe/Berlin:19700329T020000
RRULE:FREQ=YEARLY;INTERVAL=1;BYDAY=-1SU;BYMONTH=3
END:DAYLIGHT
BEGIN:STANDARD
TZOFFSETFROM:+0200
TZOFFSETTO:+0100
TZNAME:CET
DTSTART;TZID=Europe/Berlin:19701025T030000
RRULE:FREQ=YEARLY;INTERVAL=1;BYDAY=-1SU;BYMONTH=10
END:STANDARD
END:VTIMEZONE
BEGIN:VEVENT
DTSTAMP:20260425T152300
DTSTART;TZID=Europe/Berlin:20260420T083000
DTEND;TZID=Europe/Berlin:20260420T091500
UID:2026-G10-20260420T083000@FBVAIHINGEN
SUMMARY:Fit Mix (2026-G10) 
LOCATION:Enzweihingen, TSV-Halle, , 
END:VEVENT
BEGIN:VEVENT
DTSTAMP:20260425T152300
DTSTART;TZID=Europe/Berlin:20260427T083000
DTEND;TZID=Europe/Berlin:20260427T091500
UID:2026-G10-20260427T083000@FBVAIHINGEN
SUMMARY:Fit Mix (2026-G10) 
LOCATION:Enzweihingen, TSV-Halle, , 
END:VEVENT
BEGIN:VEVENT
DTSTAMP:20260425T152300
DTSTART;TZID=Europe/Berlin:20260504T083000
DTEND;TZID=Europe/Berlin:20260504T091500
UID:2026-G10-20260504T083000@FBVAIHINGEN
SUMMARY:Fit Mix (2026-G10) 
LOCATION:Enzweihingen, TSV-Halle, , 
END:VEVENT
BEGIN:VEVENT
DTSTAMP:20260425T152300
DTSTART;TZID=Europe/Berlin:20260511T083000
DTEND;TZID=Europe/Berlin:20260511T091500
UID:2026-G10-20260511T083000@FBVAIHINGEN
SUMMARY:Fit Mix (2026-G10) 
LOCATION:Enzweihingen, TSV-Halle, , 
END:VEVENT
BEGIN:VEVENT
DTSTAMP:20260425T152300
DTSTART;TZID=Europe/Berlin:20260518T083000
DTEND;TZID=Europe/Berlin:20260518T091500
UID:2026-G10-20260518T083000@FBVAIHINGEN
SUMMARY:Fit Mix (2026-G10) 
LOCATION:Enzweihingen, TSV-Halle, , 
END:VEVENT
BEGIN:VEVENT
DTSTAMP:20260425T152300
DTSTART;TZID=Europe/Berlin:20260608T083000
DTEND;TZID=Europe/Berlin:20260608T091500
UID:2026-G10-20260608T083000@FBVAIHINGEN
SUMMARY:Fit Mix (2026-G10) 
LOCATION:Enzweihingen, TSV-Halle, , 
END:VEVENT
BEGIN:VEVENT
DTSTAMP:20260425T152300
DTSTART;TZID=Europe/Berlin:20260615T083000
DTEND;TZID=Europe/Berlin:20260615T091500
UID:2026-G10-20260615T083000@FBVAIHINGEN
SUMMARY:Fit Mix (2026-G10) 
LOCATION:Enzweihingen, TSV-Halle, , 
END:VEVENT
BEGIN:VEVENT
DTSTAMP:20260425T152300
DTSTART;TZID=Europe/Berlin:20260622T083000
DTEND;TZID=Europe/Berlin:20260622T091500
UID:2026-G10-20260622T083000@FBVAIHINGEN
SUMMARY:Fit Mix (2026-G10) 
LOCATION:Enzweihingen, TSV-Halle, , 
END:VEVENT
BEGIN:VEVENT
DTSTAMP:20260425T152300
DTSTART;TZID=Europe/Berlin:20260629T083000
DTEND;TZID=Europe/Berlin:20260629T091500
UID:2026-G10-20260629T083000@FBVAIHINGEN
SUMMARY:Fit Mix (2026-G10) 
LOCATION:Enzweihingen, TSV-Halle, , 
END:VEVENT
BEGIN:VEVENT
DTSTAMP:20260425T152300
DTSTART;TZID=Europe/Berlin:20260706T083000
DTEND;TZID=Europe/Berlin:20260706T091500
UID:2026-G10-20260706T083000@FBVAIHINGEN
SUMMARY:Fit Mix (2026-G10) 
LOCATION:Enzweihingen, TSV-Halle, , 
END:VEVENT
BEGIN:VEVENT
DTSTAMP:20260425T152300
DTSTART;TZID=Europe/Berlin:20260713T083000
DTEND;TZID=Europe/Berlin:20260713T091500
UID:2026-G10-20260713T083000@FBVAIHINGEN
SUMMARY:Fit Mix (2026-G10) 
LOCATION:Enzweihingen, TSV-Halle, , 
END:VEVENT
BEGIN:VEVENT
DTSTAMP:20260425T152300
DTSTART;TZID=Europe/Berlin:20260720T083000
DTEND;TZID=Europe/Berlin:20260720T091500
UID:2026-G10-20260720T083000@FBVAIHINGEN
SUMMARY:Fit Mix (2026-G10) 
LOCATION:Enzweihingen, TSV-Halle, , 
END:VEVENT
END:VCALENDAR