BEGIN:VCALENDAR
PRODID:http://www.kufer.de/kuferweb / DE
VERSION:2.0
METHOD:PUBLISH
CALSCALE:GREGORIAN
X-WR-TIMEZONE:Europe/Berlin
BEGIN:VTIMEZONE
TZID:Europe/Berlin
X-LIC-LOCATION:Europe/Berlin
BEGIN:DAYLIGHT
TZOFFSETFROM:+0100
TZOFFSETTO:+0200
TZNAME:CEST
DTSTART;TZID=Europe/Berlin:19700329T020000
RRULE:FREQ=YEARLY;INTERVAL=1;BYDAY=-1SU;BYMONTH=3
END:DAYLIGHT
BEGIN:STANDARD
TZOFFSETFROM:+0200
TZOFFSETTO:+0100
TZNAME:CET
DTSTART;TZID=Europe/Berlin:19701025T030000
RRULE:FREQ=YEARLY;INTERVAL=1;BYDAY=-1SU;BYMONTH=10
END:STANDARD
END:VTIMEZONE
BEGIN:VEVENT
DTSTAMP:20260423T135730
DTSTART;TZID=Europe/Berlin:20260512T090000
DTEND;TZID=Europe/Berlin:20260512T103000
UID:2026-F26-20260512T090000@FBVAIHINGEN
SUMMARY:PEKIP - Bewegungsspiel für Babys  6 -11 Monate (2026-F26) 
LOCATION:Familienbildung, Gymnastikraum, Grabenstr. 18, 71665 Vaihingen/Enz
END:VEVENT
BEGIN:VEVENT
DTSTAMP:20260423T135730
DTSTART;TZID=Europe/Berlin:20260519T090000
DTEND;TZID=Europe/Berlin:20260519T103000
UID:2026-F26-20260519T090000@FBVAIHINGEN
SUMMARY:PEKIP - Bewegungsspiel für Babys  6 -11 Monate (2026-F26) 
LOCATION:Familienbildung, Gymnastikraum, Grabenstr. 18, 71665 Vaihingen/Enz
END:VEVENT
BEGIN:VEVENT
DTSTAMP:20260423T135730
DTSTART;TZID=Europe/Berlin:20260609T090000
DTEND;TZID=Europe/Berlin:20260609T103000
UID:2026-F26-20260609T090000@FBVAIHINGEN
SUMMARY:PEKIP - Bewegungsspiel für Babys  6 -11 Monate (2026-F26) 
LOCATION:Familienbildung, Gymnastikraum, Grabenstr. 18, 71665 Vaihingen/Enz
END:VEVENT
BEGIN:VEVENT
DTSTAMP:20260423T135730
DTSTART;TZID=Europe/Berlin:20260616T090000
DTEND;TZID=Europe/Berlin:20260616T103000
UID:2026-F26-20260616T090000@FBVAIHINGEN
SUMMARY:PEKIP - Bewegungsspiel für Babys  6 -11 Monate (2026-F26) 
LOCATION:Familienbildung, Gymnastikraum, Grabenstr. 18, 71665 Vaihingen/Enz
END:VEVENT
BEGIN:VEVENT
DTSTAMP:20260423T135730
DTSTART;TZID=Europe/Berlin:20260623T090000
DTEND;TZID=Europe/Berlin:20260623T103000
UID:2026-F26-20260623T090000@FBVAIHINGEN
SUMMARY:PEKIP - Bewegungsspiel für Babys  6 -11 Monate (2026-F26) 
LOCATION:Familienbildung, Gymnastikraum, Grabenstr. 18, 71665 Vaihingen/Enz
END:VEVENT
BEGIN:VEVENT
DTSTAMP:20260423T135730
DTSTART;TZID=Europe/Berlin:20260630T090000
DTEND;TZID=Europe/Berlin:20260630T103000
UID:2026-F26-20260630T090000@FBVAIHINGEN
SUMMARY:PEKIP - Bewegungsspiel für Babys  6 -11 Monate (2026-F26) 
LOCATION:Familienbildung, Gymnastikraum, Grabenstr. 18, 71665 Vaihingen/Enz
END:VEVENT
BEGIN:VEVENT
DTSTAMP:20260423T135730
DTSTART;TZID=Europe/Berlin:20260707T090000
DTEND;TZID=Europe/Berlin:20260707T103000
UID:2026-F26-20260707T090000@FBVAIHINGEN
SUMMARY:PEKIP - Bewegungsspiel für Babys  6 -11 Monate (2026-F26) 
LOCATION:Familienbildung, Gymnastikraum, Grabenstr. 18, 71665 Vaihingen/Enz
END:VEVENT
BEGIN:VEVENT
DTSTAMP:20260423T135730
DTSTART;TZID=Europe/Berlin:20260714T090000
DTEND;TZID=Europe/Berlin:20260714T103000
UID:2026-F26-20260714T090000@FBVAIHINGEN
SUMMARY:PEKIP - Bewegungsspiel für Babys  6 -11 Monate (2026-F26) 
LOCATION:Familienbildung, Gymnastikraum, Grabenstr. 18, 71665 Vaihingen/Enz
END:VEVENT
END:VCALENDAR